BEGIN:VCALENDAR
VERSION:2.0
PRODID:-//Mount Ida Reserve - ECPv6.15.20//NONSGML v1.0//EN
CALSCALE:GREGORIAN
METHOD:PUBLISH
X-ORIGINAL-URL:https://mountidareserve.com
X-WR-CALDESC:Events for Mount Ida Reserve
REFRESH-INTERVAL;VALUE=DURATION:PT1H
X-Robots-Tag:noindex
X-PUBLISHED-TTL:PT1H
BEGIN:VTIMEZONE
TZID:America/New_York
BEGIN:DAYLIGHT
TZOFFSETFROM:-0500
TZOFFSETTO:-0400
TZNAME:EDT
DTSTART:20250309T070000
END:DAYLIGHT
BEGIN:STANDARD
TZOFFSETFROM:-0400
TZOFFSETTO:-0500
TZNAME:EST
DTSTART:20251102T060000
END:STANDARD
BEGIN:DAYLIGHT
TZOFFSETFROM:-0500
TZOFFSETTO:-0400
TZNAME:EDT
DTSTART:20260308T070000
END:DAYLIGHT
BEGIN:STANDARD
TZOFFSETFROM:-0400
TZOFFSETTO:-0500
TZNAME:EST
DTSTART:20261101T060000
END:STANDARD
BEGIN:DAYLIGHT
TZOFFSETFROM:-0500
TZOFFSETTO:-0400
TZNAME:EDT
DTSTART:20270314T070000
END:DAYLIGHT
BEGIN:STANDARD
TZOFFSETFROM:-0400
TZOFFSETTO:-0500
TZNAME:EST
DTSTART:20271107T060000
END:STANDARD
END:VTIMEZONE
BEGIN:VEVENT
DTSTART;TZID=America/New_York:20260823T120000
DTEND;TZID=America/New_York:20260823T153000
DTSTAMP:20260425T074039
CREATED:20260424T170950Z
LAST-MODIFIED:20260424T170950Z
UID:10001746-1787486400-1787499000@mountidareserve.com
SUMMARY:CLUB MEMBER Lake Days
DESCRIPTION:Welcome to new club members\, residents\, and returning members! \nOur wine + beer reserve society members along with our Turkey Run + Broomfield Farms residents are invited to our private beach days all summer. \nJust past the Tasting Room through the private gates\, you’ll find a white sand beach and dock on the lake. Guests are welcome to relax\, swim\, fish\, kayak\, and more [no motorized vessels permitted]. \nParticipants are welcome to bring a guest. Feel free to stop by our Tasting Room to pick up some wine and beer for your afternoon. \nThere is no cost to attend\, all ages welcome. \nLake days are on Sundays 12:00 – 3:30 pm.  \nMay 24 (Memorial Day weekend)\nJune 21 (Father’s Day)\nJuly 12 – PUBLIC ticketed – details incoming\nAugust 23\nEmail Catie at cardito@mountidafarm.com for any questions and directions. \nRain will cancel this event.
URL:https://mountidareserve.com/event-calendar/club-member-lake-days-9/
LOCATION:Mount Ida Tasting Room & Taphouse\, 5931 Blenheim Road\, Charlottesville\, VA\, 22902\, United States
ATTACH;FMTTYPE=image/jpeg:https://mountidareserve.com/wp-content/uploads/2024/05/lake-days-square-1.jpg
GEO:37.8752587;-78.4962447
X-APPLE-STRUCTURED-LOCATION;VALUE=URI;X-ADDRESS=Mount Ida Tasting Room & Taphouse 5931 Blenheim Road Charlottesville VA 22902 United States;X-APPLE-RADIUS=500;X-TITLE=5931 Blenheim Road:geo:-78.4962447,37.8752587
END:VEVENT
END:VCALENDAR