BEGIN:VCALENDAR
VERSION:2.0
PRODID:-//Mount Ida Reserve - ECPv6.15.20//NONSGML v1.0//EN
CALSCALE:GREGORIAN
METHOD:PUBLISH
X-ORIGINAL-URL:https://mountidareserve.com
X-WR-CALDESC:Events for Mount Ida Reserve
REFRESH-INTERVAL;VALUE=DURATION:PT1H
X-Robots-Tag:noindex
X-PUBLISHED-TTL:PT1H
BEGIN:VTIMEZONE
TZID:America/New_York
BEGIN:DAYLIGHT
TZOFFSETFROM:-0500
TZOFFSETTO:-0400
TZNAME:EDT
DTSTART:20180311T070000
END:DAYLIGHT
BEGIN:STANDARD
TZOFFSETFROM:-0400
TZOFFSETTO:-0500
TZNAME:EST
DTSTART:20181104T060000
END:STANDARD
BEGIN:DAYLIGHT
TZOFFSETFROM:-0500
TZOFFSETTO:-0400
TZNAME:EDT
DTSTART:20190310T070000
END:DAYLIGHT
BEGIN:STANDARD
TZOFFSETFROM:-0400
TZOFFSETTO:-0500
TZNAME:EST
DTSTART:20191103T060000
END:STANDARD
BEGIN:DAYLIGHT
TZOFFSETFROM:-0500
TZOFFSETTO:-0400
TZNAME:EDT
DTSTART:20200308T070000
END:DAYLIGHT
BEGIN:STANDARD
TZOFFSETFROM:-0400
TZOFFSETTO:-0500
TZNAME:EST
DTSTART:20201101T060000
END:STANDARD
BEGIN:DAYLIGHT
TZOFFSETFROM:-0500
TZOFFSETTO:-0400
TZNAME:EDT
DTSTART:20210314T070000
END:DAYLIGHT
BEGIN:STANDARD
TZOFFSETFROM:-0400
TZOFFSETTO:-0500
TZNAME:EST
DTSTART:20211107T060000
END:STANDARD
BEGIN:DAYLIGHT
TZOFFSETFROM:-0500
TZOFFSETTO:-0400
TZNAME:EDT
DTSTART:20220313T070000
END:DAYLIGHT
BEGIN:STANDARD
TZOFFSETFROM:-0400
TZOFFSETTO:-0500
TZNAME:EST
DTSTART:20221106T060000
END:STANDARD
BEGIN:DAYLIGHT
TZOFFSETFROM:-0500
TZOFFSETTO:-0400
TZNAME:EDT
DTSTART:20230312T070000
END:DAYLIGHT
BEGIN:STANDARD
TZOFFSETFROM:-0400
TZOFFSETTO:-0500
TZNAME:EST
DTSTART:20231105T060000
END:STANDARD
BEGIN:DAYLIGHT
TZOFFSETFROM:-0500
TZOFFSETTO:-0400
TZNAME:EDT
DTSTART:20240310T070000
END:DAYLIGHT
BEGIN:STANDARD
TZOFFSETFROM:-0400
TZOFFSETTO:-0500
TZNAME:EST
DTSTART:20241103T060000
END:STANDARD
END:VTIMEZONE
BEGIN:VEVENT
DTSTART;VALUE=DATE:20231029
DTEND;VALUE=DATE:20231030
DTSTAMP:20260421T144254
CREATED:20230827T185053Z
LAST-MODIFIED:20250123T184614Z
UID:10000236-1698537600-1698623999@mountidareserve.com
SUMMARY:Trick or Treat Craft Beer and Wine Fest
DESCRIPTION:Local breweries and featured wineries will be pouring on the Mount Ida lawn from 12:00 – 4:00. Trick or treat from tent to tent with a halloween costume contest to follow. This event is rain or shine with heavy rains moving us indoor at The Lodge. Admission is $35 in advance\, $40 at the door. \nParticipating Breweries: \nMount Ida Taphouse \nRandom Row \nRockfish \nSouth Street \nStarr Hill \nJames River \nDecipher \n  \nFeatured Wineries: \nMount Ida Vineyard \nLovingston \nHardware Hills \n  \n 
URL:https://mountidareserve.com/event-calendar/trick-or-treat-craft-beer-and-wine-fest/
LOCATION:Mount Ida Tasting Room & Taphouse\, 5931 Blenheim Road\, Charlottesville\, VA\, 22902\, United States
CATEGORIES:Beer,Outdoor Festival
ATTACH;FMTTYPE=image/png:https://mountidareserve.com/wp-content/uploads/2023/08/test.png
GEO:37.8752587;-78.4962447
X-APPLE-STRUCTURED-LOCATION;VALUE=URI;X-ADDRESS=Mount Ida Tasting Room & Taphouse 5931 Blenheim Road Charlottesville VA 22902 United States;X-APPLE-RADIUS=500;X-TITLE=5931 Blenheim Road:geo:-78.4962447,37.8752587
END:VEVENT
BEGIN:VEVENT
DTSTART;TZID=America/New_York:20230630T140000
DTEND;TZID=America/New_York:20230630T210000
DTSTAMP:20260421T144254
CREATED:20230604T194753Z
LAST-MODIFIED:20230616T183644Z
UID:10000227-1688133600-1688158800@mountidareserve.com
SUMMARY:Fourth Fest Fireworks
DESCRIPTION:Celebrate the Fourth of July with us on the Friday before. We’ll be cooking out all day along with a crawfish boil and your favorite Reserve wines and craft beers. \nWe will end the night with a fireworks display at 9:00. \nLive music by Southwater Trio \nSeating is first come\, first served. Blankets and lawn chairs are encouraged for lawn seating. \nPlease note that space is limited to this event due to Tasting Room capacity.  \nWe will be serving cookout-style all day \nPlease\, no coolers. We do not permit outside food and beverage. Please leave your furry friends at home. \nWe are not accepting reservations on June 30. \nKitchen close at 8:00 \nBar close at 8:30 \nTHERE IS NO ENTRY FEE
URL:https://mountidareserve.com/event-calendar/fourth-fest-fireworks/
LOCATION:Mount Ida Tasting Room & Taphouse\, 5931 Blenheim Road\, Charlottesville\, VA\, 22902\, United States
CATEGORIES:Outdoor Festival
ATTACH;FMTTYPE=image/png:https://mountidareserve.com/wp-content/uploads/2023/06/4.png
GEO:37.8752587;-78.4962447
X-APPLE-STRUCTURED-LOCATION;VALUE=URI;X-ADDRESS=Mount Ida Tasting Room & Taphouse 5931 Blenheim Road Charlottesville VA 22902 United States;X-APPLE-RADIUS=500;X-TITLE=5931 Blenheim Road:geo:-78.4962447,37.8752587
END:VEVENT
BEGIN:VEVENT
DTSTART;TZID=America/New_York:20191208T120000
DTEND;TZID=America/New_York:20191208T160000
DTSTAMP:20260421T144254
CREATED:20191029T174053Z
LAST-MODIFIED:20250123T192014Z
UID:10000195-1575806400-1575820800@mountidareserve.com
SUMMARY:Holiday Artisan Market
DESCRIPTION:Sip Mount Ida wine and craft beer while taking in the beautiful mountain views as you stroll through our first annual Holiday Market at The Tasting Room + Tap House at Mount Ida Reserve. Over 20 local artisans are joining together offering a wide range of products to include handbags\, jewelry\, wood work\, soaps\, spices\, metal work\, pottery and more! \nParticipating Vendors (will add as more confirm!) \nPeach Pie Crafts  \nDr. Eva Skincare \nShaylynns Soothing Teeters \nTwo Labs Coffee \nE Wilson Handmade \nFaison Upcycle \nHunter Family Decor \nPine Knot Sculptures \nStone Spice Company \nWeaving Creek Studios \nWynott Goat Milk Soaps \nFort Blenheim Candles \nJerman Made \nKing Street Pens \nPatchwork Palettes and Passion \nSew Down Crafty \n 
URL:https://mountidareserve.com/event-calendar/holiday-artisan-market/
LOCATION:Mount Ida Tasting Room & Taphouse\, 5931 Blenheim Road\, Charlottesville\, VA\, 22902\, United States
CATEGORIES:Outdoor Festival
ATTACH;FMTTYPE=image/png:https://mountidareserve.com/wp-content/uploads/2019/10/Screen-Shot-2019-10-29-at-1.36.34-PM.png
GEO:37.8752587;-78.4962447
X-APPLE-STRUCTURED-LOCATION;VALUE=URI;X-ADDRESS=Mount Ida Tasting Room & Taphouse 5931 Blenheim Road Charlottesville VA 22902 United States;X-APPLE-RADIUS=500;X-TITLE=5931 Blenheim Road:geo:-78.4962447,37.8752587
END:VEVENT
END:VCALENDAR