BEGIN:VCALENDAR
VERSION:2.0
PRODID:-//Mount Ida Reserve - ECPv6.15.20//NONSGML v1.0//EN
CALSCALE:GREGORIAN
METHOD:PUBLISH
X-ORIGINAL-URL:https://mountidareserve.com
X-WR-CALDESC:Events for Mount Ida Reserve
REFRESH-INTERVAL;VALUE=DURATION:PT1H
X-Robots-Tag:noindex
X-PUBLISHED-TTL:PT1H
BEGIN:VTIMEZONE
TZID:America/New_York
BEGIN:DAYLIGHT
TZOFFSETFROM:-0500
TZOFFSETTO:-0400
TZNAME:EDT
DTSTART:20190310T070000
END:DAYLIGHT
BEGIN:STANDARD
TZOFFSETFROM:-0400
TZOFFSETTO:-0500
TZNAME:EST
DTSTART:20191103T060000
END:STANDARD
BEGIN:DAYLIGHT
TZOFFSETFROM:-0500
TZOFFSETTO:-0400
TZNAME:EDT
DTSTART:20200308T070000
END:DAYLIGHT
BEGIN:STANDARD
TZOFFSETFROM:-0400
TZOFFSETTO:-0500
TZNAME:EST
DTSTART:20201101T060000
END:STANDARD
BEGIN:DAYLIGHT
TZOFFSETFROM:-0500
TZOFFSETTO:-0400
TZNAME:EDT
DTSTART:20210314T070000
END:DAYLIGHT
BEGIN:STANDARD
TZOFFSETFROM:-0400
TZOFFSETTO:-0500
TZNAME:EST
DTSTART:20211107T060000
END:STANDARD
END:VTIMEZONE
BEGIN:VEVENT
DTSTART;TZID=America/New_York:20200306T180000
DTEND;TZID=America/New_York:20200306T190000
DTSTAMP:20260421T054953
CREATED:20200118T174534Z
LAST-MODIFIED:20250123T191333Z
UID:10000135-1583517600-1583521200@mountidareserve.com
SUMMARY:Brewery Tour + Tasting
DESCRIPTION:Join us at the Tasting Room & Taphouse at Mount Ida Reserve for an exclusive look behind the scenes during our monthly brewery tour! Our brewmaster\, John Bryce\, will take guests on a guided tour through our in-house brewery. Afterwards\, he will lead you in an educational tasting of Mount Ida Reserve’s innovative craft beers. John will educate attendees about the brewing process and highlight what makes Mount Ida unique. The tour and tasting will last about an hour.
URL:https://mountidareserve.com/event-calendar/brewery-tour-tasting-2/
LOCATION:Mount Ida Tasting Room & Taphouse\, 5931 Blenheim Road\, Charlottesville\, VA\, 22902\, United States
CATEGORIES:Brewery Tours
ATTACH;FMTTYPE=image/png:https://mountidareserve.com/wp-content/uploads/2020/01/Brewery-Tour-SM.png
GEO:37.8752587;-78.4962447
X-APPLE-STRUCTURED-LOCATION;VALUE=URI;X-ADDRESS=Mount Ida Tasting Room & Taphouse 5931 Blenheim Road Charlottesville VA 22902 United States;X-APPLE-RADIUS=500;X-TITLE=5931 Blenheim Road:geo:-78.4962447,37.8752587
END:VEVENT
END:VCALENDAR